BEGIN:VCALENDAR
VERSION:2.0
PRODID:-//Center for Synthetic Biology - ECPv6.5.1.3//NONSGML v1.0//EN
CALSCALE:GREGORIAN
METHOD:PUBLISH
X-WR-CALNAME:Center for Synthetic Biology
X-ORIGINAL-URL:https://staging.nwcsb.cliquedomains.com
X-WR-CALDESC:Events for Center for Synthetic Biology
REFRESH-INTERVAL;VALUE=DURATION:PT1H
X-Robots-Tag:noindex
X-PUBLISHED-TTL:PT1H
BEGIN:VTIMEZONE
TZID:UTC
BEGIN:STANDARD
TZOFFSETFROM:+0000
TZOFFSETTO:+0000
TZNAME:UTC
DTSTART:20220101T000000
END:STANDARD
END:VTIMEZONE
BEGIN:VEVENT
DTSTART;TZID=UTC:20221107T160000
DTEND;TZID=UTC:20221107T170000
DTSTAMP:20260421T141331
CREATED:20230905T055219Z
LAST-MODIFIED:20230905T055256Z
UID:2179-1667836800-1667840400@staging.nwcsb.cliquedomains.com
SUMMARY:CSB Seminar: Dr. Martin Fussenegger\, ETH Zurich and University of Basel\, Basel\, Switzerland
DESCRIPTION:
URL:https://staging.nwcsb.cliquedomains.com/event/csb-seminar-dr-martin-fussenegger-eth-zurich-and-university-of-basel-basel-switzerland/
LOCATION:Evanston Campus\, 2145 Sheridan Road\, Evanston\, IL\, 60208\, United States
CATEGORIES:Seminar Series
END:VEVENT
END:VCALENDAR